BEGIN:VCALENDAR
VERSION:2.0
PRODID:-//AG Excellence - ECPv6.15.18//NONSGML v1.0//EN
CALSCALE:GREGORIAN
METHOD:PUBLISH
X-WR-CALNAME:AG Excellence
X-ORIGINAL-URL:https://agex.org.au
X-WR-CALDESC:Events for AG Excellence
REFRESH-INTERVAL;VALUE=DURATION:PT1H
X-Robots-Tag:noindex
X-PUBLISHED-TTL:PT1H
BEGIN:VTIMEZONE
TZID:Australia/Adelaide
BEGIN:STANDARD
TZOFFSETFROM:+1030
TZOFFSETTO:+0930
TZNAME:ACST
DTSTART:20230401T163000
END:STANDARD
BEGIN:DAYLIGHT
TZOFFSETFROM:+0930
TZOFFSETTO:+1030
TZNAME:ACDT
DTSTART:20230930T163000
END:DAYLIGHT
BEGIN:STANDARD
TZOFFSETFROM:+1030
TZOFFSETTO:+0930
TZNAME:ACST
DTSTART:20240406T163000
END:STANDARD
BEGIN:DAYLIGHT
TZOFFSETFROM:+0930
TZOFFSETTO:+1030
TZNAME:ACDT
DTSTART:20241005T163000
END:DAYLIGHT
BEGIN:STANDARD
TZOFFSETFROM:+1030
TZOFFSETTO:+0930
TZNAME:ACST
DTSTART:20250405T163000
END:STANDARD
BEGIN:DAYLIGHT
TZOFFSETFROM:+0930
TZOFFSETTO:+1030
TZNAME:ACDT
DTSTART:20251004T163000
END:DAYLIGHT
END:VTIMEZONE
BEGIN:VEVENT
DTSTART;TZID=Australia/Adelaide:20240502T084500
DTEND;TZID=Australia/Adelaide:20240502T150000
DTSTAMP:20260420T055336
CREATED:20240410T054151Z
LAST-MODIFIED:20240410T054151Z
UID:10001563-1714639500-1714662000@agex.org.au
SUMMARY:Ewe management for optimal performance
DESCRIPTION:This interactive workshop will focus on some of the key principles of managing your sheep’s nutritional requirements throughout a production year\, whilst maintaining soil cover and preventing soil erosion. The day will cover: \n\nMeeting the needs of the ewe through pregnancy and lactation\nEwe health management\nDecision making points for confinement feeding and managing the autumn feed gap\nFeed budgeting\n\nThe workshop will take place outdoors\, so please ensure you bring adequate sun protection and wear suitable shoes.
URL:https://agex.org.au/event/ewe-management-for-optimal-performance/
LOCATION:Woolfitt’s Property\, 92 Tynan Road\, Sherlock\, SA
ORGANIZER;CN="Kim Blenkiron WoTL":MAILTO:eo@wotl.com.au
END:VEVENT
BEGIN:VEVENT
DTSTART;TZID=Australia/Adelaide:20240501T193000
DTEND;TZID=Australia/Adelaide:20240501T203000
DTSTAMP:20260420T055336
CREATED:20240410T022615Z
LAST-MODIFIED:20240410T022615Z
UID:10001562-1714591800-1714595400@agex.org.au
SUMMARY:A focus on containment
DESCRIPTION:Join AWI Extension SA\, Livestock SA and SA Drought Hub for upcoming webinars featuring the Ewe Containment Series. \nRegister to participate in one or all of the sessions for an informal discussion with experts\, taking place on Wednesday nights in April and May
URL:https://agex.org.au/event/a-focus-on-containment-2/
LOCATION:Online\, Australia
ORGANIZER;CN="AWI Extension SA":MAILTO:awiextensionsa@wool.com
END:VEVENT
END:VCALENDAR