BEGIN:VCALENDAR
VERSION:2.0
PRODID:-//AG Excellence - ECPv6.15.18//NONSGML v1.0//EN
CALSCALE:GREGORIAN
METHOD:PUBLISH
X-WR-CALNAME:AG Excellence
X-ORIGINAL-URL:https://agex.org.au
X-WR-CALDESC:Events for AG Excellence
REFRESH-INTERVAL;VALUE=DURATION:PT1H
X-Robots-Tag:noindex
X-PUBLISHED-TTL:PT1H
BEGIN:VTIMEZONE
TZID:Australia/Adelaide
BEGIN:STANDARD
TZOFFSETFROM:+1030
TZOFFSETTO:+0930
TZNAME:ACST
DTSTART:20250405T163000
END:STANDARD
BEGIN:DAYLIGHT
TZOFFSETFROM:+0930
TZOFFSETTO:+1030
TZNAME:ACDT
DTSTART:20251004T163000
END:DAYLIGHT
BEGIN:STANDARD
TZOFFSETFROM:+1030
TZOFFSETTO:+0930
TZNAME:ACST
DTSTART:20260404T163000
END:STANDARD
BEGIN:DAYLIGHT
TZOFFSETFROM:+0930
TZOFFSETTO:+1030
TZNAME:ACDT
DTSTART:20261003T163000
END:DAYLIGHT
BEGIN:STANDARD
TZOFFSETFROM:+1030
TZOFFSETTO:+0930
TZNAME:ACST
DTSTART:20270403T163000
END:STANDARD
BEGIN:DAYLIGHT
TZOFFSETFROM:+0930
TZOFFSETTO:+1030
TZNAME:ACDT
DTSTART:20271002T163000
END:DAYLIGHT
END:VTIMEZONE
BEGIN:VEVENT
DTSTART;TZID=Australia/Adelaide:20260121T140000
DTEND;TZID=Australia/Adelaide:20260121T170000
DTSTAMP:20260419T231725
CREATED:20260119T043251Z
LAST-MODIFIED:20260119T043251Z
UID:10002016-1769004000-1769014800@agex.org.au
SUMMARY:Machinery Investment Decisions workshop
DESCRIPTION:Machinery investment is one of the biggest and riskiest financial decisions in a farm business. Get it right\, and machinery boosts efficiency and profitability. Get it wrong\, and it quietly erodes margins\, cash flow\, and resilience. This January\, Eyre Peninsula growers will have the opportunity to step back from day-to-day operations and take a clear\, practical look at whether their machinery investment is really working for their business. \nAIR EP is pleased to host a five-session regional workshop series focused on making better machinery investment and replacement decisions. Delivered by Peter Newman (Planfarm) and Andy Bates (Bates Ag Consulting)\, these interactive sessions will provide growers with practical tools\, benchmarks\, and confidence to assess machinery costs and make informed decisions that suit their scale and system. \nEach session runs for 3 hours (including a mid-session break) and is capped at 12 farm businesses to allow for discussion\, activities\, and peer learning. \nWhat Will Be Covered?\nParticipants will work through: \n\n\nFarm business ratios\, including machinery-to-income benchmarks \n\n\nCalculating your own average income and machinery ratio \n\n\nMachinery investment across different farm scales \n\n\nReplacement planning and schedules \n\n\nFunding options: hire purchase vs cash \n\n\nWhen (and why) it may make sense to break the rules \n\n\nThe sessions are practical\, numbers-based\, and designed to be directly applicable to individual farm businesses. \nWhy Attend?\n\n\nUnderstand whether your machinery spend matches your business performance \n\n\nGain clarity around replacement timing and funding decisions \n\n\nLearn from experienced consultants and fellow growers \n\n\nBuild confidence in machinery decisions before the next investment cycle \n\n\nFor further information\, contact Naomi Scholz\, eo@airep.com.au or 0428 540 670. \nCost:\nAttendance is free\, thanks to funding support from the GRDC RiskWi$e project. Up to 12 farm businesses can attend (multiple people from the same business welcome\, please indicate who will be attending on the registration form). First in best dressed\, and please let me know if you have registered but are unable to make it\, so we can offer your spot to the waiting list. \nRDA Eyre Peninsula is also pleased to support these workshops through the Small Business Fundamentals Program’s drought support activities. The program is an initiative of the Government of South Australia’s Office for Small and Family Business and the South Australian Small Business Strategy 2023 – 2030.
URL:https://agex.org.au/event/machinery-investment-decisions-workshop-3/
LOCATION:Cowell Sports Club\, Corner North Terrace & Lincoln Highway\, Cowell\, South Australia\, 5602\, Australia
ATTACH;FMTTYPE=image/jpeg:https://agex.org.au/wp-content/uploads/2026/01/Screenshot-2026-01-19-at-1.41.31-pm.jpg
ORGANIZER;CN="Air EP  - Naomi Scholz":MAILTO:eo@airep.com.au
GEO:-33.680386;136.9222917
X-APPLE-STRUCTURED-LOCATION;VALUE=URI;X-ADDRESS=Cowell Sports Club Corner North Terrace & Lincoln Highway Cowell South Australia 5602 Australia;X-APPLE-RADIUS=500;X-TITLE=Corner North Terrace & Lincoln Highway:geo:136.9222917,-33.680386
END:VEVENT
BEGIN:VEVENT
DTSTART;TZID=Australia/Adelaide:20260122T140000
DTEND;TZID=Australia/Adelaide:20260122T170000
DTSTAMP:20260419T231725
CREATED:20260119T043208Z
LAST-MODIFIED:20260119T043208Z
UID:10002017-1769090400-1769101200@agex.org.au
SUMMARY:Machinery Investment Decisions workshop
DESCRIPTION:Machinery investment is one of the biggest and riskiest financial decisions in a farm business. Get it right\, and machinery boosts efficiency and profitability. Get it wrong\, and it quietly erodes margins\, cash flow\, and resilience. This January\, Eyre Peninsula growers will have the opportunity to step back from day-to-day operations and take a clear\, practical look at whether their machinery investment is really working for their business. \nAIR EP is pleased to host a five-session regional workshop series focused on making better machinery investment and replacement decisions. Delivered by Peter Newman (Planfarm) and Andy Bates (Bates Ag Consulting)\, these interactive sessions will provide growers with practical tools\, benchmarks\, and confidence to assess machinery costs and make informed decisions that suit their scale and system. \nEach session runs for 3 hours (including a mid-session break) and is capped at 12 farm businesses to allow for discussion\, activities\, and peer learning. \nWhat Will Be Covered?\nParticipants will work through: \n\n\nFarm business ratios\, including machinery-to-income benchmarks \n\n\nCalculating your own average income and machinery ratio \n\n\nMachinery investment across different farm scales \n\n\nReplacement planning and schedules \n\n\nFunding options: hire purchase vs cash \n\n\nWhen (and why) it may make sense to break the rules \n\n\nThe sessions are practical\, numbers-based\, and designed to be directly applicable to individual farm businesses. \nWhy Attend?\n\n\nUnderstand whether your machinery spend matches your business performance \n\n\nGain clarity around replacement timing and funding decisions \n\n\nLearn from experienced consultants and fellow growers \n\n\nBuild confidence in machinery decisions before the next investment cycle \n\n\nFor further information\, contact Naomi Scholz\, eo@airep.com.au or 0428 540 670. \nCost:\nAttendance is free\, thanks to funding support from the GRDC RiskWi$e project. Up to 12 farm businesses can attend (multiple people from the same business welcome\, please indicate who will be attending on the registration form). First in best dressed\, and please let me know if you have registered but are unable to make it\, so we can offer your spot to the waiting list. \nRDA Eyre Peninsula is also pleased to support these workshops through the Small Business Fundamentals Program’s drought support activities. The program is an initiative of the Government of South Australia’s Office for Small and Family Business and the South Australian Small Business Strategy 2023 – 2030.
URL:https://agex.org.au/event/machinery-investment-decisions-workshop-2/
LOCATION:Port Neill Hotel\, 7 Peake Terrace\, Port Neill\, SA\, 5604\, Australia
ATTACH;FMTTYPE=image/jpeg:https://agex.org.au/wp-content/uploads/2026/01/Screenshot-2026-01-19-at-1.41.31-pm-1.jpg
ORGANIZER;CN="Air EP  - Naomi Scholz":MAILTO:eo@airep.com.au
END:VEVENT
BEGIN:VEVENT
DTSTART;TZID=Australia/Adelaide:20260122T140000
DTEND;TZID=Australia/Adelaide:20260122T170000
DTSTAMP:20260419T231725
CREATED:20260119T050922Z
LAST-MODIFIED:20260119T050922Z
UID:10002022-1769090400-1769101200@agex.org.au
SUMMARY:Machinery Investment Decisions workshop
DESCRIPTION:Machinery investment is one of the biggest and riskiest financial decisions in a farm business. Get it right\, and machinery boosts efficiency and profitability. Get it wrong\, and it quietly erodes margins\, cash flow\, and resilience. This January\, Eyre Peninsula growers will have the opportunity to step back from day-to-day operations and take a clear\, practical look at whether their machinery investment is really working for their business. \nAIR EP is pleased to host a five-session regional workshop series focused on making better machinery investment and replacement decisions. Delivered by Peter Newman (Planfarm) and Andy Bates (Bates Ag Consulting)\, these interactive sessions will provide growers with practical tools\, benchmarks\, and confidence to assess machinery costs and make informed decisions that suit their scale and system. \nEach session runs for 3 hours (including a mid-session break) and is capped at 12 farm businesses to allow for discussion\, activities\, and peer learning. \nWhat Will Be Covered?\nParticipants will work through: \n\n\nFarm business ratios\, including machinery-to-income benchmarks \n\n\nCalculating your own average income and machinery ratio \n\n\nMachinery investment across different farm scales \n\n\nReplacement planning and schedules \n\n\nFunding options: hire purchase vs cash \n\n\nWhen (and why) it may make sense to break the rules \n\n\nThe sessions are practical\, numbers-based\, and designed to be directly applicable to individual farm businesses. \nWhy Attend?\n\n\nUnderstand whether your machinery spend matches your business performance \n\n\nGain clarity around replacement timing and funding decisions \n\n\nLearn from experienced consultants and fellow growers \n\n\nBuild confidence in machinery decisions before the next investment cycle \n\n\nFor further information\, contact Naomi Scholz\, eo@airep.com.au or 0428 540 670. \nCost:\nAttendance is free\, thanks to funding support from the GRDC RiskWi$e project. Up to 12 farm businesses can attend (multiple people from the same business welcome\, please indicate who will be attending on the registration form). First in best dressed\, and please let me know if you have registered but are unable to make it\, so we can offer your spot to the waiting list. \nRDA Eyre Peninsula is also pleased to support these workshops through the Small Business Fundamentals Program’s drought support activities. The program is an initiative of the Government of South Australia’s Office for Small and Family Business and the South Australian Small Business Strategy 2023 – 2030.
URL:https://agex.org.au/event/machinery-investment-decisions-workshop/
LOCATION:Port Neill Hotel\, 7 Peake Terrace\, Port Neill\, SA\, 5604\, Australia
ATTACH;FMTTYPE=image/jpeg:https://agex.org.au/wp-content/uploads/2026/01/Screenshot-2026-01-19-at-1.41.31-pm-1.jpg
ORGANIZER;CN="Air EP  - Naomi Scholz":MAILTO:eo@airep.com.au
END:VEVENT
BEGIN:VEVENT
DTSTART;TZID=Australia/Adelaide:20260130T090000
DTEND;TZID=Australia/Adelaide:20260130T170000
DTSTAMP:20260419T231725
CREATED:20260128T035325Z
LAST-MODIFIED:20260128T035325Z
UID:10002026-1769763600-1769792400@agex.org.au
SUMMARY:Limestone Coast Early to Mid Career Farmer Workshop 2 (open to ETMC Farmer Group)
DESCRIPTION:Following on from the initial Early to Mid Career Farmer session in November 2025 which helped shaped the workshop topics of interest\, we will be welcoming Dr Michael Wilkes\, Michael Wilkes Livestock Co on containment feeding and livestock nutritional needs for a workshop / field walk in January 2026. \nGroup members will receive a direct email with event details. Didn’t receive the email? Contact Katie Moorhouse on comms@mackillopgroup.com.au or 0419 821 689. \nREGISTRATION ESSENTIAL.
URL:https://agex.org.au/event/limestone-coast-early-to-mid-career-farmer-workshop-2-open-to-etmc-farmer-group/
LOCATION:Shearing Shed\, Vogelsang Lane\, Padthaway\, SA\, Australia
ATTACH;FMTTYPE=image/jpeg:https://agex.org.au/wp-content/uploads/2026/01/Screenshot-2026-01-19-at-9.20.36-pm.jpg
ORGANIZER;CN="MFMG- Katie Moorhouse":MAILTO:comms@mackillopgroup.com.au
END:VEVENT
END:VCALENDAR